BEGIN:VCALENDAR
VERSION:2.0
PRODID:-//Squarespace Inc/Squarespace 6//v6//EN
BEGIN:VEVENT
UID:5ffb774c79f0411fdd757aa1@squarespace.com
DTSTAMP:20210118T000935Z
DTSTART:20210224T213000Z
DTEND:20210516T043000Z
SUMMARY:Kākahi: Peter and Sara McIntyre
GEO:-41.283459;174.778267
LOCATION:New Zealand Portrait Gallery Te Pūkenga Whakaata\, Shed 11\, 60 La
 dy Elizabeth Lane\, Wellington\, New Zealand
END:VEVENT
END:VCALENDAR
