BEGIN:VCALENDAR
VERSION:2.0
PRODID:-//Squarespace Inc/Squarespace 6//v6//EN
BEGIN:VEVENT
UID:5ed5abf738e26d409f3b3481@squarespace.com
DTSTAMP:20201201T012710Z
DTSTART:20200826T223000Z
DTEND:20201108T033000Z
SUMMARY:Marti Friedlander: Portraits of the Artists
END:VEVENT
END:VCALENDAR
