BEGIN:VCALENDAR
VERSION:2.0
PRODID:-//Squarespace Inc/Squarespace 6//v6//EN
BEGIN:VEVENT
UID:5ed5ae106890a845cef05006@squarespace.com
DTSTAMP:20201215T022835Z
DTSTART:20200916T223000Z
DTEND:20201213T033000Z
SUMMARY:Everything Old is New Again: The Turnbull Library at 100
END:VEVENT
END:VCALENDAR
