BEGIN:VCALENDAR
VERSION:2.0
PRODID:-//Squarespace Inc/Squarespace 6//v6//EN
BEGIN:VEVENT
UID:5eaa37e611eef77c8b3ac69b@squarespace.com
DTSTAMP:20200503T220445Z
DTSTART:20180712T223000Z
DTEND:20180923T043000Z
SUMMARY:Colours of a Life: Douglas MacDiarmid
END:VEVENT
END:VCALENDAR
