BEGIN:VCALENDAR
VERSION:2.0
PRODID:-//Squarespace Inc/Squarespace 6//v6//EN
BEGIN:VEVENT
UID:5e6997c63786d90470adcdfc@squarespace.com
DTSTAMP:20200610T023259Z
DTSTART:20200319T213000Z
DTEND:20200909T223000Z
SUMMARY:Bill Sutton: A Good Idea
END:VEVENT
END:VCALENDAR
