BEGIN:VCALENDAR
VERSION:2.0
PRODID:-//Squarespace Inc/Squarespace 6//v6//EN
BEGIN:VEVENT
UID:5e6998f150148d254d5500e0@squarespace.com
DTSTAMP:20210106T093851Z
DTSTART:20200226T213000Z
DTEND:20200809T043000Z
SUMMARY:The Adam Portraiture Award 2020
END:VEVENT
END:VCALENDAR
