BEGIN:VCALENDAR
VERSION:2.0
PRODID:-//Squarespace Inc/Squarespace 6//v6//EN
BEGIN:VEVENT
UID:5f7a5409c0d2cc549fd80892@squarespace.com
DTSTAMP:20210106T101449Z
DTSTART:20201217T093000Z
DTEND:20210314T033000Z
SUMMARY:Portraits of Power/Portraits as Power
END:VEVENT
END:VCALENDAR
