BEGIN:VCALENDAR
VERSION:2.0
PRODID:-//Squarespace Inc/Squarespace 6//v6//EN
BEGIN:VEVENT
UID:5eefdfad56a96a1efe1aeec0@squarespace.com
DTSTAMP:20210106T100907Z
DTSTART:20201125T213000Z
DTEND:20210214T033000Z
SUMMARY:Star Gossage: He Tangata The People
END:VEVENT
END:VCALENDAR
