BEGIN:VCALENDAR
VERSION:2.0
PRODID:-//Squarespace Inc/Squarespace 6//v6//EN
BEGIN:VEVENT
UID:5e97a4efe11f397f1c75c27d@squarespace.com
DTSTAMP:20200610T052354Z
DTSTART:20190920T003000Z
DTEND:20191215T033000Z
SUMMARY:Poutokomanawa: The Carmen Rupe Generation
END:VEVENT
END:VCALENDAR
