BEGIN:VCALENDAR
VERSION:2.0
PRODID:-//Squarespace Inc/Squarespace 6//v6//EN
BEGIN:VEVENT
UID:5ea0ec653b46f95d97618694@squarespace.com
DTSTAMP:20200503T220531Z
DTSTART:20190801T013000Z
DTEND:20191101T013000Z
SUMMARY:Jacqueline Fahey's Suburbanites
END:VEVENT
END:VCALENDAR
