BEGIN:VCALENDAR
VERSION:2.0
PRODID:-//Squarespace Inc/Squarespace 6//v6//EN
BEGIN:VEVENT
UID:5eb8a6174a67d300485965b8@squarespace.com
DTSTAMP:20200624T045212Z
DTSTART:20190627T223000Z
DTEND:20190720T043000Z
SUMMARY:In The Round: Margaret Tolland and students from Samuel Marsden Col
 legiate
END:VEVENT
END:VCALENDAR
