BEGIN:VCALENDAR
VERSION:2.0
PRODID:-//Squarespace Inc/Squarespace 6//v6//EN
BEGIN:VEVENT
UID:5eb8a70bef4eb24f7a43cac6@squarespace.com
DTSTAMP:20200513T211808Z
DTSTART:20190620T223000Z
DTEND:20190623T043000Z
SUMMARY:My Life To Live
END:VEVENT
END:VCALENDAR
