BEGIN:VCALENDAR
VERSION:2.0
PRODID:-//Squarespace Inc/Squarespace 6//v6//EN
BEGIN:VEVENT
UID:5eb8ab5f70a7166eaee1b5cc@squarespace.com
DTSTAMP:20200513T211659Z
DTSTART:20190614T223000Z
DTEND:20190915T043000Z
SUMMARY:Working Life: Photographs by Peter James Quinn
END:VEVENT
END:VCALENDAR
