BEGIN:VCALENDAR
VERSION:2.0
PRODID:-//Squarespace Inc/Squarespace 6//v6//EN
BEGIN:VEVENT
UID:5eaa1c30e8f13b7deae4126d@squarespace.com
DTSTAMP:20200503T220524Z
DTSTART:20190324T213000Z
DTEND:20190609T043000Z
SUMMARY:Modern People
END:VEVENT
END:VCALENDAR
