BEGIN:VCALENDAR
VERSION:2.0
PRODID:-//Squarespace Inc/Squarespace 6//v6//EN
BEGIN:VEVENT
UID:5ea77bacc7557d34639429d6@squarespace.com
DTSTAMP:20200503T220517Z
DTSTART:20190221T000000Z
DTEND:20190526T050000Z
SUMMARY:Edith and George: in our sea of islands
END:VEVENT
END:VCALENDAR
