BEGIN:VCALENDAR
VERSION:2.0
PRODID:-//Squarespace Inc/Squarespace 6//v6//EN
BEGIN:VEVENT
UID:5ecaeaede3d0ce7bf2ed7a0f@squarespace.com
DTSTAMP:20200624T045038Z
DTSTART:20191218T210000Z
DTEND:20200314T220000Z
SUMMARY:Not Just My Face!
END:VEVENT
END:VCALENDAR
