BEGIN:VCALENDAR
VERSION:2.0
PRODID:-//Squarespace Inc/Squarespace 6//v6//EN
BEGIN:VEVENT
UID:5eaa097c8adb3114ca856a08@squarespace.com
DTSTAMP:20200503T220614Z
DTSTART:20191120T213000Z
DTEND:20200216T033000Z
SUMMARY:Being Chinese in Aotearoa: A Photographic Journey
END:VEVENT
END:VCALENDAR
