BEGIN:VCALENDAR
VERSION:2.0
PRODID:-//Squarespace Inc/Squarespace 6//v6//EN
BEGIN:VEVENT
UID:5eb8af1170a7166eaee2371b@squarespace.com
DTSTAMP:20200602T042653Z
DTSTART:20180928T020000Z
DTEND:20181116T020000Z
SUMMARY:Worn Identities
END:VEVENT
END:VCALENDAR
