BEGIN:VCALENDAR
VERSION:2.0
PRODID:-//Squarespace Inc/Squarespace 6//v6//EN
BEGIN:VEVENT
UID:5eb9cc812821495571a27f8d@squarespace.com
DTSTAMP:20200511T221147Z
DTSTART:20180704T223000Z
DTEND:20180721T233000Z
SUMMARY:Julia Holden: Performance Painting
END:VEVENT
END:VCALENDAR
