BEGIN:VCALENDAR
VERSION:2.0
PRODID:-//Squarespace Inc/Squarespace 6//v6//EN
BEGIN:VEVENT
UID:5eb8b5e20e4d61663a11af6b@squarespace.com
DTSTAMP:20200524T221002Z
DTSTART:20180421T023000Z
DTEND:20180824T033000Z
SUMMARY:Strangely Familiar: Portraits by Wayne Youle
END:VEVENT
END:VCALENDAR
