BEGIN:VCALENDAR
VERSION:2.0
PRODID:-//Squarespace Inc/Squarespace 6//v6//EN
BEGIN:VEVENT
UID:5eaa2eaa4f46fa106b38ca27@squarespace.com
DTSTAMP:20200503T220435Z
DTSTART:20180326T213000Z
DTEND:20180704T043000Z
SUMMARY:Situated Selves: Photographs from our collection
END:VEVENT
END:VCALENDAR
