BEGIN:VCALENDAR
VERSION:2.0
PRODID:-//Squarespace Inc/Squarespace 6//v6//EN
BEGIN:VEVENT
UID:5ea6232104d3344a9b7bbd72@squarespace.com
DTSTAMP:20200601T011655Z
DTSTART:20180228T213000Z
DTEND:20180527T043000Z
SUMMARY:Adam Portraiture Award 2018
END:VEVENT
END:VCALENDAR
