BEGIN:VCALENDAR
VERSION:2.0
PRODID:-//Squarespace Inc/Squarespace 6//v6//EN
BEGIN:VEVENT
UID:5eb8adeb4a67d300485a5655@squarespace.com
DTSTAMP:20200602T042606Z
DTSTART:20181221T010000Z
DTEND:20190317T020000Z
SUMMARY:Reflections on the Self
END:VEVENT
END:VCALENDAR
