BEGIN:VCALENDAR
VERSION:2.0
PRODID:-//Squarespace Inc/Squarespace 6//v6//EN
BEGIN:VEVENT
UID:5c1059c2c2241bf877247137@squarespace.com
DTSTAMP:20200511T205200Z
DTSTART:20180802T020000Z
DTEND:20190430T040000Z
SUMMARY:Katherine Mansfield: A Portrait
END:VEVENT
END:VCALENDAR
