BEGIN:VCALENDAR
VERSION:2.0
PRODID:-//Squarespace Inc/Squarespace 6//v6//EN
BEGIN:VEVENT
UID:5c106d5088251b4b8979d822@squarespace.com
DTSTAMP:20200503T220511Z
DTSTART:20181108T023000Z
DTEND:20191201T033000Z
SUMMARY:John Walsh: A Portrait of Ūawa Tolaga Bay He Wahakaahua o Ūawa
END:VEVENT
END:VCALENDAR
