BEGIN:VCALENDAR
VERSION:2.0
PRODID:-//Squarespace Inc/Squarespace 6//v6//EN
BEGIN:VEVENT
UID:5eb8b6a1c673416ea8907c6b@squarespace.com
DTSTAMP:20200607T052838Z
DTSTART:20170908T023000Z
DTEND:20171008T023000Z
SUMMARY:EYE TO EYE
END:VEVENT
END:VCALENDAR
