BEGIN:VCALENDAR
VERSION:2.0
PRODID:-//Squarespace Inc/Squarespace 6//v6//EN
BEGIN:VEVENT
UID:5eb9dc76c90dce0849b43820@squarespace.com
DTSTAMP:20200513T211456Z
DTSTART:20170802T233000Z
DTEND:20171022T233000Z
SUMMARY:Ludicrous Likenesses: The Fine Art of Caricature
END:VEVENT
END:VCALENDAR
