BEGIN:VCALENDAR
VERSION:2.0
PRODID:-//Squarespace Inc/Squarespace 6//v6//EN
BEGIN:VEVENT
UID:5eb9ce414fd0435727836ec4@squarespace.com
DTSTAMP:20200511T225356Z
DTSTART:20170728T223000Z
DTEND:20170823T233000Z
SUMMARY:Feeling Blue
END:VEVENT
END:VCALENDAR
