BEGIN:VCALENDAR
VERSION:2.0
PRODID:-//Squarespace Inc/Squarespace 6//v6//EN
BEGIN:VEVENT
UID:5eb9dd6492831e49fd407459@squarespace.com
DTSTAMP:20200511T232447Z
DTSTART:20170507T233000Z
DTEND:20170629T003000Z
SUMMARY:Brand New: Recent Acquisitions
END:VEVENT
END:VCALENDAR
