BEGIN:VCALENDAR
VERSION:2.0
PRODID:-//Squarespace Inc/Squarespace 6//v6//EN
BEGIN:VEVENT
UID:5eb9deede0be2a4d1fd169ce@squarespace.com
DTSTAMP:20200511T233241Z
DTSTART:20170219T223000Z
DTEND:20170507T003000Z
SUMMARY:Capture - Photographs from the Collection  
END:VEVENT
END:VCALENDAR
