BEGIN:VCALENDAR
VERSION:2.0
PRODID:-//Squarespace Inc/Squarespace 6//v6//EN
BEGIN:VEVENT
UID:5eb8b6412ffa577e0278fd16@squarespace.com
DTSTAMP:20200607T052823Z
DTSTART:20171107T013000Z
DTEND:20180301T023000Z
SUMMARY:Portrait Plus
END:VEVENT
END:VCALENDAR
