BEGIN:VCALENDAR
VERSION:2.0
PRODID:-//Squarespace Inc/Squarespace 6//v6//EN
BEGIN:VEVENT
UID:5ea0c5c67a9ed64376188c15@squarespace.com
DTSTAMP:20200511T010320Z
DTSTART:20171115T220000Z
DTEND:20180213T230000Z
SUMMARY:Frances Hodgkins People
END:VEVENT
END:VCALENDAR
