BEGIN:VCALENDAR
VERSION:2.0
PRODID:-//Squarespace Inc/Squarespace 6//v6//EN
BEGIN:VEVENT
UID:5ea0d8845636756e62abf986@squarespace.com
DTSTAMP:20200511T010455Z
DTSTART:20161123T230000Z
DTEND:20170326T000000Z
SUMMARY:Leo Bensemann &amp\; Friends: Portraiture and the Group
END:VEVENT
END:VCALENDAR
