BEGIN:VCALENDAR
VERSION:2.0
PRODID:-//Squarespace Inc/Squarespace 6//v6//EN
BEGIN:VEVENT
UID:5ec47647216e90762950cf57@squarespace.com
DTSTAMP:20200520T014145Z
DTSTART:20130626T003000Z
DTEND:20130908T043000Z
SUMMARY:Te Ru Movers &amp\; Shakers: Early New Zealand Portraits by William 
 Beetham
END:VEVENT
END:VCALENDAR
