BEGIN:VCALENDAR
VERSION:2.0
PRODID:-//Squarespace Inc/Squarespace 6//v6//EN
BEGIN:VEVENT
UID:5ec4758d8bc4d36052c1ad4d@squarespace.com
DTSTAMP:20200520T014136Z
DTSTART:20130305T233000Z
DTEND:20130616T013000Z
SUMMARY:Marianne Muggeridge: Taken Personally
END:VEVENT
END:VCALENDAR
