BEGIN:VCALENDAR
VERSION:2.0
PRODID:-//Squarespace Inc/Squarespace 6//v6//EN
BEGIN:VEVENT
UID:5ec47b09719b9d10deedd309@squarespace.com
DTSTAMP:20200520T014123Z
DTSTART:20120530T010000Z
DTEND:20120722T020000Z
SUMMARY:Recent Acquisitions for the New Zealand Portrait Gallery Collection
END:VEVENT
END:VCALENDAR
