BEGIN:VCALENDAR
VERSION:2.0
PRODID:-//Squarespace Inc/Squarespace 6//v6//EN
BEGIN:VEVENT
UID:5ec47a6e8bc4d36052c27002@squarespace.com
DTSTAMP:20200520T014112Z
DTSTART:20120426T010000Z
DTEND:20120722T020000Z
SUMMARY:All Woman: a modern portrait of New Zealand women
END:VEVENT
END:VCALENDAR
