BEGIN:VCALENDAR
VERSION:2.0
PRODID:-//Squarespace Inc/Squarespace 6//v6//EN
BEGIN:VEVENT
UID:5eae8863f23882475716243d@squarespace.com
DTSTAMP:20200628T014416Z
DTSTART:20120222T213000Z
DTEND:20120412T043000Z
SUMMARY:Adam Portraiture Award 2012
END:VEVENT
END:VCALENDAR
