BEGIN:VCALENDAR
VERSION:2.0
PRODID:-//Squarespace Inc/Squarespace 6//v6//EN
BEGIN:VEVENT
UID:5ec477feeb83b02cb5faec77@squarespace.com
DTSTAMP:20200520T014128Z
DTSTART:20121211T233000Z
DTEND:20130224T033000Z
SUMMARY:Blue Smoke: Portraits from the Lost Dawn of New Zealand Popular Mus
 ic
END:VEVENT
END:VCALENDAR
