BEGIN:VCALENDAR
VERSION:2.0
PRODID:-//Squarespace Inc/Squarespace 6//v6//EN
BEGIN:VEVENT
UID:5ec478b60c67960877da9233@squarespace.com
DTSTAMP:20200520T014210Z
DTSTART:20121211T233000Z
DTEND:20130224T003000Z
SUMMARY:37: Photographic Portraits of Christchurch Earthquake Survivors
END:VEVENT
END:VCALENDAR
