BEGIN:VCALENDAR
VERSION:2.0
PRODID:-//Squarespace Inc/Squarespace 6//v6//EN
BEGIN:VEVENT
UID:5ecc4736e7d73d6dee51b23c@squarespace.com
DTSTAMP:20200525T223252Z
DTSTART:20121107T220000Z
DTEND:20121121T230000Z
SUMMARY:Still Dancing - Photographs of Dancers by Stephen A'Court
END:VEVENT
END:VCALENDAR
