BEGIN:VCALENDAR
VERSION:2.0
PRODID:-//Squarespace Inc/Squarespace 6//v6//EN
BEGIN:VEVENT
UID:5ecc47a002f4af1d18b174a5@squarespace.com
DTSTAMP:20200525T223410Z
DTSTART:20121123T220000Z
DTEND:20121205T230000Z
SUMMARY:The Gloaming - sculpted portraits of the Faery world
END:VEVENT
END:VCALENDAR
