BEGIN:VCALENDAR
VERSION:2.0
PRODID:-//Squarespace Inc/Squarespace 6//v6//EN
BEGIN:VEVENT
UID:5ec482e11ad36e6c94999ff5@squarespace.com
DTSTAMP:20200527T031908Z
DTSTART:20110818T013000Z
DTEND:20111031T013000Z
SUMMARY:THE MATCH: Portraits of New Zealand Rugby Players
END:VEVENT
END:VCALENDAR
