BEGIN:VCALENDAR
VERSION:2.0
PRODID:-//Squarespace Inc/Squarespace 6//v6//EN
BEGIN:VEVENT
UID:5ec480a9a6086903cd71fe1c@squarespace.com
DTSTAMP:20200520T022300Z
DTSTART:20110602T010000Z
DTEND:20110807T020000Z
SUMMARY:Joanna Braithwaite: Significant Others
END:VEVENT
END:VCALENDAR
