BEGIN:VCALENDAR
VERSION:2.0
PRODID:-//Squarespace Inc/Squarespace 6//v6//EN
BEGIN:VEVENT
UID:5ec4804e9d13a678fe493774@squarespace.com
DTSTAMP:20200520T014218Z
DTSTART:20110303T000000Z
DTEND:20110522T020000Z
SUMMARY:The Art of Science: Portraits from the Royal Society of NZ
END:VEVENT
END:VCALENDAR
