BEGIN:VCALENDAR
VERSION:2.0
PRODID:-//Squarespace Inc/Squarespace 6//v6//EN
BEGIN:VEVENT
UID:5ec485eb950d5547cfd1b81d@squarespace.com
DTSTAMP:20200525T223020Z
DTSTART:20111116T003000Z
DTEND:20120212T013000Z
SUMMARY:Makers of Modern New Zealand 1930 - 1990: The men and women who sha
 ped our world.
END:VEVENT
END:VCALENDAR
