BEGIN:VCALENDAR
VERSION:2.0
PRODID:-//Squarespace Inc/Squarespace 6//v6//EN
BEGIN:VEVENT
UID:5eae91cf8c966d21d67c991e@squarespace.com
DTSTAMP:20200530T095823Z
DTSTART:20100224T213000Z
DTEND:20100411T043000Z
SUMMARY:Adam Portraiture Award 2010
END:VEVENT
END:VCALENDAR
