BEGIN:VCALENDAR
VERSION:2.0
PRODID:-//Squarespace Inc/Squarespace 6//v6//EN
BEGIN:VEVENT
UID:5ec47f3cae6f137c88b5a9f6@squarespace.com
DTSTAMP:20200520T013955Z
DTSTART:20101118T000000Z
DTEND:20110325T010000Z
SUMMARY:Beginnings: The New Zealand Portrait Gallery's Permanent and Loan C
 ollection
END:VEVENT
END:VCALENDAR
