BEGIN:VCALENDAR
VERSION:2.0
PRODID:-//Squarespace Inc/Squarespace 6//v6//EN
BEGIN:VEVENT
UID:5ec48c68780e4f33315d55dc@squarespace.com
DTSTAMP:20200525T222135Z
DTSTART:20100728T020000Z
DTEND:20100912T030000Z
SUMMARY:KIN &amp\; "Personals"
END:VEVENT
END:VCALENDAR
