BEGIN:VCALENDAR
VERSION:2.0
PRODID:-//Squarespace Inc/Squarespace 6//v6//EN
BEGIN:VEVENT
UID:5ec48c1eae6f137c88b800b4@squarespace.com
DTSTAMP:20200520T014815Z
DTSTART:20090628T020000Z
DTEND:20090718T030000Z
SUMMARY:Waiting for Godot: Portraits by Nick Cuthell
END:VEVENT
END:VCALENDAR
